BEGIN:VCALENDAR
VERSION:2.0
PRODID:-//Welcome - ECPv6.15.20//NONSGML v1.0//EN
CALSCALE:GREGORIAN
METHOD:PUBLISH
X-ORIGINAL-URL:https://coshoctoncountyfair.org
X-WR-CALDESC:Events for Welcome
REFRESH-INTERVAL;VALUE=DURATION:PT1H
X-Robots-Tag:noindex
X-PUBLISHED-TTL:PT1H
BEGIN:VTIMEZONE
TZID:America/New_York
BEGIN:DAYLIGHT
TZOFFSETFROM:-0500
TZOFFSETTO:-0400
TZNAME:EDT
DTSTART:20250309T070000
END:DAYLIGHT
BEGIN:STANDARD
TZOFFSETFROM:-0400
TZOFFSETTO:-0500
TZNAME:EST
DTSTART:20251102T060000
END:STANDARD
BEGIN:DAYLIGHT
TZOFFSETFROM:-0500
TZOFFSETTO:-0400
TZNAME:EDT
DTSTART:20260308T070000
END:DAYLIGHT
BEGIN:STANDARD
TZOFFSETFROM:-0400
TZOFFSETTO:-0500
TZNAME:EST
DTSTART:20261101T060000
END:STANDARD
BEGIN:DAYLIGHT
TZOFFSETFROM:-0500
TZOFFSETTO:-0400
TZNAME:EDT
DTSTART:20270314T070000
END:DAYLIGHT
BEGIN:STANDARD
TZOFFSETFROM:-0400
TZOFFSETTO:-0500
TZNAME:EST
DTSTART:20271107T060000
END:STANDARD
END:VTIMEZONE
BEGIN:VEVENT
DTSTART;TZID=America/New_York:20260910T000000
DTEND;TZID=America/New_York:20260910T235959
DTSTAMP:20260422T200131
CREATED:20260317T191820Z
LAST-MODIFIED:20260317T191822Z
UID:1329-1788998400-1789084799@coshoctoncountyfair.org
SUMMARY:4 th Grade Ag Day
DESCRIPTION:
URL:https://coshoctoncountyfair.org/event/4-th-grade-ag-day/
END:VEVENT
BEGIN:VEVENT
DTSTART;TZID=America/New_York:20260920T130000
DTEND;TZID=America/New_York:20260920T130000
DTSTAMP:20260422T200131
CREATED:20260317T191903Z
LAST-MODIFIED:20260317T191905Z
UID:1331-1789909200-1789909200@coshoctoncountyfair.org
SUMMARY:Dog Clinic @ 1 pm Jr Fair Barn
DESCRIPTION:
URL:https://coshoctoncountyfair.org/event/dog-clinic-1-pm-jr-fair-barn-5/
END:VEVENT
END:VCALENDAR