BEGIN:VCALENDAR
VERSION:2.0
PRODID:-//Welcome - ECPv6.15.20//NONSGML v1.0//EN
CALSCALE:GREGORIAN
METHOD:PUBLISH
X-ORIGINAL-URL:https://coshoctoncountyfair.org
X-WR-CALDESC:Events for Welcome
REFRESH-INTERVAL;VALUE=DURATION:PT1H
X-Robots-Tag:noindex
X-PUBLISHED-TTL:PT1H
BEGIN:VTIMEZONE
TZID:America/New_York
BEGIN:DAYLIGHT
TZOFFSETFROM:-0500
TZOFFSETTO:-0400
TZNAME:EDT
DTSTART:20240310T070000
END:DAYLIGHT
BEGIN:STANDARD
TZOFFSETFROM:-0400
TZOFFSETTO:-0500
TZNAME:EST
DTSTART:20241103T060000
END:STANDARD
BEGIN:DAYLIGHT
TZOFFSETFROM:-0500
TZOFFSETTO:-0400
TZNAME:EDT
DTSTART:20250309T070000
END:DAYLIGHT
BEGIN:STANDARD
TZOFFSETFROM:-0400
TZOFFSETTO:-0500
TZNAME:EST
DTSTART:20251102T060000
END:STANDARD
BEGIN:DAYLIGHT
TZOFFSETFROM:-0500
TZOFFSETTO:-0400
TZNAME:EDT
DTSTART:20260308T070000
END:DAYLIGHT
BEGIN:STANDARD
TZOFFSETFROM:-0400
TZOFFSETTO:-0500
TZNAME:EST
DTSTART:20261101T060000
END:STANDARD
END:VTIMEZONE
BEGIN:VEVENT
DTSTART;TZID=America/New_York:20250926T000000
DTEND;TZID=America/New_York:20251002T235959
DTSTAMP:20260422T215044
CREATED:20250427T224433Z
LAST-MODIFIED:20250427T224434Z
UID:1099-1758844800-1759449599@coshoctoncountyfair.org
SUMMARY:Coshocton County Fair
DESCRIPTION:
URL:https://coshoctoncountyfair.org/event/coshocton-county-fair/
END:VEVENT
BEGIN:VEVENT
DTSTART;TZID=America/New_York:20251012T000000
DTEND;TZID=America/New_York:20251019T235959
DTSTAMP:20260422T215044
CREATED:20250427T224514Z
LAST-MODIFIED:20250427T224516Z
UID:1101-1760227200-1760918399@coshoctoncountyfair.org
SUMMARY:Good Sam Camping
DESCRIPTION:
URL:https://coshoctoncountyfair.org/event/good-sam-camping-3/
END:VEVENT
BEGIN:VEVENT
DTSTART;TZID=America/New_York:20251025T080000
DTEND;TZID=America/New_York:20251025T170000
DTSTAMP:20260422T215044
CREATED:20250427T224558Z
LAST-MODIFIED:20250430T141105Z
UID:1103-1761379200-1761411600@coshoctoncountyfair.org
SUMMARY:Coshocton Recycling Shredding Day
DESCRIPTION:
URL:https://coshoctoncountyfair.org/event/coshocton-recycling-shredding-day/
END:VEVENT
END:VCALENDAR