BEGIN:VCALENDAR
VERSION:2.0
PRODID:-//Welcome - ECPv6.15.20//NONSGML v1.0//EN
CALSCALE:GREGORIAN
METHOD:PUBLISH
X-ORIGINAL-URL:https://coshoctoncountyfair.org
X-WR-CALDESC:Events for Welcome
REFRESH-INTERVAL;VALUE=DURATION:PT1H
X-Robots-Tag:noindex
X-PUBLISHED-TTL:PT1H
BEGIN:VTIMEZONE
TZID:America/New_York
BEGIN:DAYLIGHT
TZOFFSETFROM:-0500
TZOFFSETTO:-0400
TZNAME:EDT
DTSTART:20240310T070000
END:DAYLIGHT
BEGIN:STANDARD
TZOFFSETFROM:-0400
TZOFFSETTO:-0500
TZNAME:EST
DTSTART:20241103T060000
END:STANDARD
BEGIN:DAYLIGHT
TZOFFSETFROM:-0500
TZOFFSETTO:-0400
TZNAME:EDT
DTSTART:20250309T070000
END:DAYLIGHT
BEGIN:STANDARD
TZOFFSETFROM:-0400
TZOFFSETTO:-0500
TZNAME:EST
DTSTART:20251102T060000
END:STANDARD
BEGIN:DAYLIGHT
TZOFFSETFROM:-0500
TZOFFSETTO:-0400
TZNAME:EDT
DTSTART:20260308T070000
END:DAYLIGHT
BEGIN:STANDARD
TZOFFSETFROM:-0400
TZOFFSETTO:-0500
TZNAME:EST
DTSTART:20261101T060000
END:STANDARD
END:VTIMEZONE
BEGIN:VEVENT
DTSTART;TZID=America/New_York:20250809T090000
DTEND;TZID=America/New_York:20250809T110000
DTSTAMP:20260423T012632
CREATED:20250427T223559Z
LAST-MODIFIED:20250427T223600Z
UID:1085-1754730000-1754737200@coshoctoncountyfair.org
SUMMARY:Goat Preview
DESCRIPTION:JR Fair Arena
URL:https://coshoctoncountyfair.org/event/goat-preview/
END:VEVENT
BEGIN:VEVENT
DTSTART;TZID=America/New_York:20250810T130000
DTEND;TZID=America/New_York:20250810T150000
DTSTAMP:20260423T012632
CREATED:20250427T223644Z
LAST-MODIFIED:20250427T223645Z
UID:1087-1754830800-1754838000@coshoctoncountyfair.org
SUMMARY:Dog Clinic
DESCRIPTION:
URL:https://coshoctoncountyfair.org/event/dog-clinic/
END:VEVENT
BEGIN:VEVENT
DTSTART;TZID=America/New_York:20250816T090000
DTEND;TZID=America/New_York:20250816T120000
DTSTAMP:20260423T012632
CREATED:20250714T185718Z
LAST-MODIFIED:20250714T185720Z
UID:1194-1755334800-1755345600@coshoctoncountyfair.org
SUMMARY:Tire Recycling Event
DESCRIPTION:$1 per tire Coshocton County Residents ONLY. Passenger & Light Truck Tires off rim ONLY    enter through the main gate and follow signage\, 10 off rim tires per vehicle max\, first come first serve\, ONLY cash and checks accepted
URL:https://coshoctoncountyfair.org/event/tire-recycling-event/
END:VEVENT
BEGIN:VEVENT
DTSTART;TZID=America/New_York:20250823T080000
DTEND;TZID=America/New_York:20250823T170000
DTSTAMP:20260423T012632
CREATED:20250808T150905Z
LAST-MODIFIED:20250808T150907Z
UID:1200-1755936000-1755968400@coshoctoncountyfair.org
SUMMARY:Elite Dance Force Multi- Family Yard Sale
DESCRIPTION:Large Multi Family Yard Sale Elite Dance Force
URL:https://coshoctoncountyfair.org/event/elite-dance-force-multi-family-yard-sale/
END:VEVENT
BEGIN:VEVENT
DTSTART;TZID=America/New_York:20250829T080000
DTEND;TZID=America/New_York:20250831T170000
DTSTAMP:20260423T012632
CREATED:20250427T223757Z
LAST-MODIFIED:20250427T223759Z
UID:1091-1756454400-1756659600@coshoctoncountyfair.org
SUMMARY:Flint Ridge
DESCRIPTION:
URL:https://coshoctoncountyfair.org/event/flint-ridge-2/
END:VEVENT
BEGIN:VEVENT
DTSTART;TZID=America/New_York:20250831T140000
DTEND;TZID=America/New_York:20250831T170000
DTSTAMP:20260423T012632
CREATED:20250427T224014Z
LAST-MODIFIED:20250427T224016Z
UID:1093-1756648800-1756659600@coshoctoncountyfair.org
SUMMARY:Horse Preview
DESCRIPTION:
URL:https://coshoctoncountyfair.org/event/horse-preview/
END:VEVENT
END:VCALENDAR