BEGIN:VCALENDAR
VERSION:2.0
PRODID:-//Welcome - ECPv6.15.20//NONSGML v1.0//EN
CALSCALE:GREGORIAN
METHOD:PUBLISH
X-WR-CALNAME:Welcome
X-ORIGINAL-URL:https://coshoctoncountyfair.org
X-WR-CALDESC:Events for Welcome
REFRESH-INTERVAL;VALUE=DURATION:PT1H
X-Robots-Tag:noindex
X-PUBLISHED-TTL:PT1H
BEGIN:VTIMEZONE
TZID:America/New_York
BEGIN:DAYLIGHT
TZOFFSETFROM:-0500
TZOFFSETTO:-0400
TZNAME:EDT
DTSTART:20240310T070000
END:DAYLIGHT
BEGIN:STANDARD
TZOFFSETFROM:-0400
TZOFFSETTO:-0500
TZNAME:EST
DTSTART:20241103T060000
END:STANDARD
BEGIN:DAYLIGHT
TZOFFSETFROM:-0500
TZOFFSETTO:-0400
TZNAME:EDT
DTSTART:20250309T070000
END:DAYLIGHT
BEGIN:STANDARD
TZOFFSETFROM:-0400
TZOFFSETTO:-0500
TZNAME:EST
DTSTART:20251102T060000
END:STANDARD
BEGIN:DAYLIGHT
TZOFFSETFROM:-0500
TZOFFSETTO:-0400
TZNAME:EDT
DTSTART:20260308T070000
END:DAYLIGHT
BEGIN:STANDARD
TZOFFSETFROM:-0400
TZOFFSETTO:-0500
TZNAME:EST
DTSTART:20261101T060000
END:STANDARD
END:VTIMEZONE
BEGIN:VEVENT
DTSTART;TZID=America/New_York:20250720T130000
DTEND;TZID=America/New_York:20250720T150000
DTSTAMP:20260422T202318
CREATED:20250427T223453Z
LAST-MODIFIED:20250427T223455Z
UID:1083-1753016400-1753023600@coshoctoncountyfair.org
SUMMARY:4-H Dog Clinic
DESCRIPTION:
URL:https://coshoctoncountyfair.org/event/4-h-dog-clinic-3/
END:VEVENT
BEGIN:VEVENT
DTSTART;TZID=America/New_York:20250719T190000
DTEND;TZID=America/New_York:20250719T193000
DTSTAMP:20260422T202318
CREATED:20250430T131531Z
LAST-MODIFIED:20250430T131541Z
UID:1120-1752951600-1752953400@coshoctoncountyfair.org
SUMMARY:Rough Truck
DESCRIPTION:Join us for the Coshocton Rough Truck!
URL:https://coshoctoncountyfair.org/event/rough-truck/
END:VEVENT
BEGIN:VEVENT
DTSTART;TZID=America/New_York:20250716T080000
DTEND;TZID=America/New_York:20250716T170000
DTSTAMP:20260422T202318
CREATED:20250816T223716Z
LAST-MODIFIED:20250701T135043Z
UID:1089-1752652800-1752685200@coshoctoncountyfair.org
SUMMARY:Tire Recycling
DESCRIPTION:
URL:https://coshoctoncountyfair.org/event/tire-recycling/
END:VEVENT
BEGIN:VEVENT
DTSTART;TZID=America/New_York:20250712T000000
DTEND;TZID=America/New_York:20250712T235959
DTSTAMP:20260422T202318
CREATED:20250427T223310Z
LAST-MODIFIED:20250427T223311Z
UID:1081-1752278400-1752364799@coshoctoncountyfair.org
SUMMARY:Crowtown Goat Show
DESCRIPTION:
URL:https://coshoctoncountyfair.org/event/crowtown-goat-show/
END:VEVENT
BEGIN:VEVENT
DTSTART;TZID=America/New_York:20250703T220000
DTEND;TZID=America/New_York:20250703T223000
DTSTAMP:20260422T202318
CREATED:20250519T111144Z
LAST-MODIFIED:20250519T111146Z
UID:1169-1751580000-1751581800@coshoctoncountyfair.org
SUMMARY:Fireworks
DESCRIPTION:Fireworks start at dark!
URL:https://coshoctoncountyfair.org/event/fireworks/
END:VEVENT
BEGIN:VEVENT
DTSTART;TZID=America/New_York:20250628T060000
DTEND;TZID=America/New_York:20250628T080000
DTSTAMP:20260422T202318
CREATED:20250427T223216Z
LAST-MODIFIED:20250427T223217Z
UID:1079-1751090400-1751097600@coshoctoncountyfair.org
SUMMARY:Hog Tag In
DESCRIPTION:Livestock Barn
URL:https://coshoctoncountyfair.org/event/hog-tag-in/
END:VEVENT
BEGIN:VEVENT
DTSTART;TZID=America/New_York:20250622T120000
DTEND;TZID=America/New_York:20250622T180000
DTSTAMP:20260422T202318
CREATED:20250427T223127Z
LAST-MODIFIED:20250427T223128Z
UID:1077-1750593600-1750615200@coshoctoncountyfair.org
SUMMARY:4-H PAS Horse Show
DESCRIPTION:
URL:https://coshoctoncountyfair.org/event/4-h-pas-horse-show/
END:VEVENT
BEGIN:VEVENT
DTSTART;TZID=America/New_York:20250621T090000
DTEND;TZID=America/New_York:20250621T110000
DTSTAMP:20260422T202318
CREATED:20250427T222753Z
LAST-MODIFIED:20250505T130204Z
UID:1069-1750496400-1750503600@coshoctoncountyfair.org
SUMMARY:Lamb/Goat tag in
DESCRIPTION:Located in the JR Fair Barn
URL:https://coshoctoncountyfair.org/event/lamb-goat-tag-in/
END:VEVENT
BEGIN:VEVENT
DTSTART;TZID=America/New_York:20250621T080000
DTEND;TZID=America/New_York:20250621T170000
DTSTAMP:20260422T202318
CREATED:20250427T223031Z
LAST-MODIFIED:20250430T130029Z
UID:1075-1750492800-1750525200@coshoctoncountyfair.org
SUMMARY:Perry Chapel Rummage Sale
DESCRIPTION:Located in the Large Commercial Building
URL:https://coshoctoncountyfair.org/event/perry-chapel-rummage-sale-3/
END:VEVENT
BEGIN:VEVENT
DTSTART;TZID=America/New_York:20250621T070000
DTEND;TZID=America/New_York:20250621T090000
DTSTAMP:20260422T202318
CREATED:20250427T222941Z
LAST-MODIFIED:20250427T222943Z
UID:1073-1750489200-1750496400@coshoctoncountyfair.org
SUMMARY:Feeder Calf Tag In
DESCRIPTION:Livestock Barn
URL:https://coshoctoncountyfair.org/event/feeder-calf-tag-in/
END:VEVENT
BEGIN:VEVENT
DTSTART;TZID=America/New_York:20250620T160000
DTEND;TZID=America/New_York:20250620T200000
DTSTAMP:20260422T202318
CREATED:20250304T105906Z
LAST-MODIFIED:20250502T122613Z
UID:492-1750435200-1750449600@coshoctoncountyfair.org
SUMMARY:Monster Truck Bash
DESCRIPTION:The Monster Truck Bash Roars into Coshocton! FREE parking with admission.
URL:https://coshoctoncountyfair.org/event/monster-truck-bash/
LOCATION:Coshocton County Fair Grounds\, 707 Kenilworth Ave\, Coshocton\, OH\, 43812\, United States
ATTACH;FMTTYPE=image/jpeg:https://coshoctoncountyfair.org/wp-content/uploads/2025/03/monster-truck.jpg
END:VEVENT
BEGIN:VEVENT
DTSTART;TZID=America/New_York:20250620T080000
DTEND;TZID=America/New_York:20250620T170000
DTSTAMP:20260422T202318
CREATED:20250427T222845Z
LAST-MODIFIED:20250430T130119Z
UID:1071-1750406400-1750438800@coshoctoncountyfair.org
SUMMARY:Perry Chapel Rummage Sale
DESCRIPTION:Located in the Large Commercial Building
URL:https://coshoctoncountyfair.org/event/perry-chapel-rummage-sale-2/
END:VEVENT
BEGIN:VEVENT
DTSTART;TZID=America/New_York:20250614T080000
DTEND;TZID=America/New_York:20250614T170000
DTSTAMP:20260422T202318
CREATED:20250427T222641Z
LAST-MODIFIED:20250427T222643Z
UID:1067-1749888000-1749920400@coshoctoncountyfair.org
SUMMARY:Solid Rock Rummage Sale
DESCRIPTION:Located in Large Commercial Building
URL:https://coshoctoncountyfair.org/event/solid-rock-rummage-sale/
END:VEVENT
BEGIN:VEVENT
DTSTART;TZID=America/New_York:20250613T080000
DTEND;TZID=America/New_York:20250628T170000
DTSTAMP:20260422T202318
CREATED:20250427T222519Z
LAST-MODIFIED:20250427T222521Z
UID:1063-1749801600-1751130000@coshoctoncountyfair.org
SUMMARY:Safety Town
DESCRIPTION:
URL:https://coshoctoncountyfair.org/event/safety-town/
END:VEVENT
BEGIN:VEVENT
DTSTART;TZID=America/New_York:20250613T080000
DTEND;TZID=America/New_York:20250615T170000
DTSTAMP:20260422T202318
CREATED:20250427T222552Z
LAST-MODIFIED:20250427T222554Z
UID:1065-1749801600-1750006800@coshoctoncountyfair.org
SUMMARY:4-H Camping
DESCRIPTION:
URL:https://coshoctoncountyfair.org/event/4-h-camping/
END:VEVENT
BEGIN:VEVENT
DTSTART;TZID=America/New_York:20250608T130000
DTEND;TZID=America/New_York:20250608T150000
DTSTAMP:20260422T202318
CREATED:20250427T222245Z
LAST-MODIFIED:20250427T222247Z
UID:1061-1749387600-1749394800@coshoctoncountyfair.org
SUMMARY:4-H Dog Clinic
DESCRIPTION:
URL:https://coshoctoncountyfair.org/event/4-h-dog-clinic-2/
END:VEVENT
BEGIN:VEVENT
DTSTART;TZID=America/New_York:20250606T080000
DTEND;TZID=America/New_York:20250607T170000
DTSTAMP:20260422T202318
CREATED:20250303T011740Z
LAST-MODIFIED:20250304T101806Z
UID:313-1749196800-1749315600@coshoctoncountyfair.org
SUMMARY:Hot Air Balloon Festival
DESCRIPTION:all info
URL:https://coshoctoncountyfair.org/event/hot-air-balloon-festival/
ATTACH;FMTTYPE=image/webp:https://coshoctoncountyfair.org/wp-content/uploads/2025/03/hot-air-scaled.webp
END:VEVENT
BEGIN:VEVENT
DTSTART;TZID=America/New_York:20250605T080000
DTEND;TZID=America/New_York:20250605T170000
DTSTAMP:20260422T202318
CREATED:20250427T221836Z
LAST-MODIFIED:20250427T221838Z
UID:1059-1749110400-1749142800@coshoctoncountyfair.org
SUMMARY:Good Sam Camping
DESCRIPTION:
URL:https://coshoctoncountyfair.org/event/good-sam-camping-2/
END:VEVENT
BEGIN:VEVENT
DTSTART;TZID=America/New_York:20250603T110000
DTEND;TZID=America/New_York:20250603T130000
DTSTAMP:20260422T202318
CREATED:20250427T221712Z
LAST-MODIFIED:20250427T221713Z
UID:1057-1748948400-1748955600@coshoctoncountyfair.org
SUMMARY:Bike Safety Day
DESCRIPTION:Put on by Coshocton County Health Department and Coshocton County Sheriff’s Office
URL:https://coshoctoncountyfair.org/event/bike-safety-day/
END:VEVENT
BEGIN:VEVENT
DTSTART;TZID=America/New_York:20250531T140000
DTEND;TZID=America/New_York:20250531T153000
DTSTAMP:20260422T202318
CREATED:20250427T221318Z
LAST-MODIFIED:20250527T181449Z
UID:1051-1748700000-1748705400@coshoctoncountyfair.org
SUMMARY:4-H QA
DESCRIPTION:Hunter Arena
URL:https://coshoctoncountyfair.org/event/4-h-qa-3/
END:VEVENT
BEGIN:VEVENT
DTSTART;TZID=America/New_York:20250531T080000
DTEND;TZID=America/New_York:20250531T170000
DTSTAMP:20260422T202318
CREATED:20250427T221436Z
LAST-MODIFIED:20250427T221438Z
UID:1055-1748678400-1748710800@coshoctoncountyfair.org
SUMMARY:Garage Sale
DESCRIPTION:AG Building
URL:https://coshoctoncountyfair.org/event/garage-sale-2/
END:VEVENT
BEGIN:VEVENT
DTSTART;TZID=America/New_York:20250531T080000
DTEND;TZID=America/New_York:20250531T170000
DTSTAMP:20260422T202318
CREATED:20250427T221405Z
LAST-MODIFIED:20250427T221406Z
UID:1053-1748678400-1748710800@coshoctoncountyfair.org
SUMMARY:Health Fair
DESCRIPTION:Large Commercial Building
URL:https://coshoctoncountyfair.org/event/health-fair/
END:VEVENT
BEGIN:VEVENT
DTSTART;TZID=America/New_York:20250531T080000
DTEND;TZID=America/New_York:20250531T093000
DTSTAMP:20260422T202318
CREATED:20250427T221215Z
LAST-MODIFIED:20250527T181516Z
UID:1049-1748678400-1748683800@coshoctoncountyfair.org
SUMMARY:4-H QA
DESCRIPTION:Hunter Arena
URL:https://coshoctoncountyfair.org/event/4-h-qa-2/
END:VEVENT
BEGIN:VEVENT
DTSTART;TZID=America/New_York:20250530T080000
DTEND;TZID=America/New_York:20250530T170000
DTSTAMP:20260422T202318
CREATED:20250427T214941Z
LAST-MODIFIED:20250427T214943Z
UID:1047-1748592000-1748624400@coshoctoncountyfair.org
SUMMARY:Garage Sale
DESCRIPTION:AG Building
URL:https://coshoctoncountyfair.org/event/garage-sale/
END:VEVENT
BEGIN:VEVENT
DTSTART;TZID=America/New_York:20250526T170000
DTEND;TZID=America/New_York:20250526T193000
DTSTAMP:20260422T202318
CREATED:20250427T214849Z
LAST-MODIFIED:20250427T214850Z
UID:1045-1748278800-1748287800@coshoctoncountyfair.org
SUMMARY:Culpepper & Merriweather Circus
DESCRIPTION:5 PM and 7:30 PM show times  \n\n\n\nTicket Prices (can be purchased online with card) \n\n\n\nIn advance: Adult $13 Child/ Senior: $8 \n\n\n\nCircus Day: Adult $16 Child/Senior $9
URL:https://coshoctoncountyfair.org/event/culpepper-merriweather-circus/
END:VEVENT
BEGIN:VEVENT
DTSTART;TZID=America/New_York:20250523T080000
DTEND;TZID=America/New_York:20250523T170000
DTSTAMP:20260422T202318
CREATED:20250427T214156Z
LAST-MODIFIED:20250427T214157Z
UID:1043-1747987200-1748019600@coshoctoncountyfair.org
SUMMARY:Flint Ridge
DESCRIPTION:
URL:https://coshoctoncountyfair.org/event/flint-ridge/
END:VEVENT
BEGIN:VEVENT
DTSTART;TZID=America/New_York:20250519T193000
DTEND;TZID=America/New_York:20250519T193000
DTSTAMP:20260422T202318
CREATED:20250308T232239Z
LAST-MODIFIED:20250313T143308Z
UID:635-1747683000-1747683000@coshoctoncountyfair.org
SUMMARY:Sr. Fair Meeting
DESCRIPTION:Meeting to be held at the County Services Building room 145
URL:https://coshoctoncountyfair.org/event/sr-fair-may-meeting/
LOCATION:Coshocton County Services Building\, 724 South 7 St\, Coshocton\, Ohio\, 43812
END:VEVENT
BEGIN:VEVENT
DTSTART;TZID=America/New_York:20250519T130000
DTEND;TZID=America/New_York:20250519T150000
DTSTAMP:20260422T202318
CREATED:20250427T213907Z
LAST-MODIFIED:20250427T213909Z
UID:1041-1747659600-1747666800@coshoctoncountyfair.org
SUMMARY:4-H Dog Clinic
DESCRIPTION:
URL:https://coshoctoncountyfair.org/event/4-h-dog-clinic/
END:VEVENT
BEGIN:VEVENT
DTSTART;TZID=America/New_York:20250510T120000
DTEND;TZID=America/New_York:20250518T120000
DTSTAMP:20260422T202318
CREATED:20250427T213815Z
LAST-MODIFIED:20250427T214020Z
UID:1039-1746878400-1747569600@coshoctoncountyfair.org
SUMMARY:Good Sam Camping
DESCRIPTION:Good Sam Camping May 10- 18
URL:https://coshoctoncountyfair.org/event/good-sam-camping/
END:VEVENT
BEGIN:VEVENT
DTSTART;TZID=America/New_York:20250506T080000
DTEND;TZID=America/New_York:20250506T170000
DTSTAMP:20260422T202318
CREATED:20250427T213646Z
LAST-MODIFIED:20250427T213647Z
UID:1037-1746518400-1746550800@coshoctoncountyfair.org
SUMMARY:Girl Scout Garden Party
DESCRIPTION:
URL:https://coshoctoncountyfair.org/event/girl-scout-garden-party/
END:VEVENT
END:VCALENDAR