BEGIN:VCALENDAR
VERSION:2.0
PRODID:-//Welcome - ECPv6.15.20//NONSGML v1.0//EN
CALSCALE:GREGORIAN
METHOD:PUBLISH
X-WR-CALNAME:Welcome
X-ORIGINAL-URL:https://coshoctoncountyfair.org
X-WR-CALDESC:Events for Welcome
REFRESH-INTERVAL;VALUE=DURATION:PT1H
X-Robots-Tag:noindex
X-PUBLISHED-TTL:PT1H
BEGIN:VTIMEZONE
TZID:America/New_York
BEGIN:DAYLIGHT
TZOFFSETFROM:-0500
TZOFFSETTO:-0400
TZNAME:EDT
DTSTART:20240310T070000
END:DAYLIGHT
BEGIN:STANDARD
TZOFFSETFROM:-0400
TZOFFSETTO:-0500
TZNAME:EST
DTSTART:20241103T060000
END:STANDARD
BEGIN:DAYLIGHT
TZOFFSETFROM:-0500
TZOFFSETTO:-0400
TZNAME:EDT
DTSTART:20250309T070000
END:DAYLIGHT
BEGIN:STANDARD
TZOFFSETFROM:-0400
TZOFFSETTO:-0500
TZNAME:EST
DTSTART:20251102T060000
END:STANDARD
BEGIN:DAYLIGHT
TZOFFSETFROM:-0500
TZOFFSETTO:-0400
TZNAME:EDT
DTSTART:20260308T070000
END:DAYLIGHT
BEGIN:STANDARD
TZOFFSETFROM:-0400
TZOFFSETTO:-0500
TZNAME:EST
DTSTART:20261101T060000
END:STANDARD
BEGIN:DAYLIGHT
TZOFFSETFROM:-0500
TZOFFSETTO:-0400
TZNAME:EDT
DTSTART:20270314T070000
END:DAYLIGHT
BEGIN:STANDARD
TZOFFSETFROM:-0400
TZOFFSETTO:-0500
TZNAME:EST
DTSTART:20271107T060000
END:STANDARD
END:VTIMEZONE
BEGIN:VEVENT
DTSTART;TZID=America/New_York:20250904T080000
DTEND;TZID=America/New_York:20250907T170000
DTSTAMP:20260423T071105
CREATED:20250822T190526Z
LAST-MODIFIED:20250822T190527Z
UID:1215-1756972800-1757264400@coshoctoncountyfair.org
SUMMARY:Don McVay Sr Memorial Beagle Hunt
DESCRIPTION:Don McVay Sr Memorial Beagle Hunt
URL:https://coshoctoncountyfair.org/event/don-mcvay-sr-memorial-beagle-hunt/
END:VEVENT
BEGIN:VEVENT
DTSTART;TZID=America/New_York:20250906T090000
DTEND;TZID=America/New_York:20250906T110000
DTSTAMP:20260423T071105
CREATED:20250427T224219Z
LAST-MODIFIED:20250427T224220Z
UID:1097-1757149200-1757156400@coshoctoncountyfair.org
SUMMARY:Poultry Blood Testing
DESCRIPTION:Located in the Poultry Barn
URL:https://coshoctoncountyfair.org/event/poultry-blood-testing/
END:VEVENT
BEGIN:VEVENT
DTSTART;TZID=America/New_York:20250911T080000
DTEND;TZID=America/New_York:20250911T140000
DTSTAMP:20260423T071105
CREATED:20250430T194537Z
LAST-MODIFIED:20250501T151645Z
UID:1141-1757577600-1757599200@coshoctoncountyfair.org
SUMMARY:4th Grade AG Day
DESCRIPTION:
URL:https://coshoctoncountyfair.org/event/4th-grade-ag-day/
END:VEVENT
BEGIN:VEVENT
DTSTART;TZID=America/New_York:20250914T130000
DTEND;TZID=America/New_York:20250914T150000
DTSTAMP:20260423T071105
CREATED:20250427T224105Z
LAST-MODIFIED:20250427T224108Z
UID:1095-1757854800-1757862000@coshoctoncountyfair.org
SUMMARY:Dog Clinic
DESCRIPTION:
URL:https://coshoctoncountyfair.org/event/dog-clinic-2/
END:VEVENT
BEGIN:VEVENT
DTSTART;TZID=America/New_York:20250921T110000
DTEND;TZID=America/New_York:20250921T150000
DTSTAMP:20260423T071105
CREATED:20250830T125234Z
LAST-MODIFIED:20250830T125235Z
UID:1217-1758452400-1758466800@coshoctoncountyfair.org
SUMMARY:Austin Yoder Memorial Chicken Dinner
DESCRIPTION:Join us for the Austin Yoder Memorial Chicken Dinner all donations will go to the Austin Memorial Scholarship Fund \n\n\n\nAt the Ridgewood Food Stand 11-3 or until sold out \n\n\n\nEach Meal comes with half a chicken\, homemade noodles\, mashed potatoes\, and green beans \n\n\n\nAny questions contact: \n\n\n\nWade Thompson 740-294-8158 \n\n\n\nAmy Yoder 330-340-1624
URL:https://coshoctoncountyfair.org/event/austin-yoder-memorial-chicken-dinner/
END:VEVENT
BEGIN:VEVENT
DTSTART;TZID=America/New_York:20250926T000000
DTEND;TZID=America/New_York:20251002T235959
DTSTAMP:20260423T071105
CREATED:20250427T224433Z
LAST-MODIFIED:20250427T224434Z
UID:1099-1758844800-1759449599@coshoctoncountyfair.org
SUMMARY:Coshocton County Fair
DESCRIPTION:
URL:https://coshoctoncountyfair.org/event/coshocton-county-fair/
END:VEVENT
BEGIN:VEVENT
DTSTART;TZID=America/New_York:20251012T000000
DTEND;TZID=America/New_York:20251019T235959
DTSTAMP:20260423T071105
CREATED:20250427T224514Z
LAST-MODIFIED:20250427T224516Z
UID:1101-1760227200-1760918399@coshoctoncountyfair.org
SUMMARY:Good Sam Camping
DESCRIPTION:
URL:https://coshoctoncountyfair.org/event/good-sam-camping-3/
END:VEVENT
BEGIN:VEVENT
DTSTART;TZID=America/New_York:20251025T080000
DTEND;TZID=America/New_York:20251025T170000
DTSTAMP:20260423T071105
CREATED:20250427T224558Z
LAST-MODIFIED:20250430T141105Z
UID:1103-1761379200-1761411600@coshoctoncountyfair.org
SUMMARY:Coshocton Recycling Shredding Day
DESCRIPTION:
URL:https://coshoctoncountyfair.org/event/coshocton-recycling-shredding-day/
END:VEVENT
BEGIN:VEVENT
DTSTART;TZID=America/New_York:20251206T180000
DTEND;TZID=America/New_York:20251206T183000
DTSTAMP:20260423T071105
CREATED:20250427T224641Z
LAST-MODIFIED:20250427T224642Z
UID:1105-1765044000-1765045800@coshoctoncountyfair.org
SUMMARY:Christmas Magic In Lights
DESCRIPTION:
URL:https://coshoctoncountyfair.org/event/christmas-magic-in-lights/
END:VEVENT
BEGIN:VEVENT
DTSTART;TZID=America/New_York:20260317T080000
DTEND;TZID=America/New_York:20260317T170000
DTSTAMP:20260423T071105
CREATED:20260317T190133Z
LAST-MODIFIED:20260317T190135Z
UID:1299-1773734400-1773766800@coshoctoncountyfair.org
SUMMARY:Quality Assurance Jr Fair\, Beef\, Hunter Arena  8-9:30 AM & 2-2:30 PM
DESCRIPTION:
URL:https://coshoctoncountyfair.org/event/quality-assurance-jr-fair-beef-hunter-arena-8-930-am-2-230-pm/
END:VEVENT
BEGIN:VEVENT
DTSTART;TZID=America/New_York:20260328T080000
DTEND;TZID=America/New_York:20260328T170000
DTSTAMP:20260423T071105
CREATED:20260317T184226Z
LAST-MODIFIED:20260317T184228Z
UID:1274-1774684800-1774717200@coshoctoncountyfair.org
SUMMARY:Beagle Hunt
DESCRIPTION:
URL:https://coshoctoncountyfair.org/event/beagle-hunt/
END:VEVENT
BEGIN:VEVENT
DTSTART;TZID=America/New_York:20260402T160000
DTEND;TZID=America/New_York:20260402T180000
DTSTAMP:20260423T071105
CREATED:20260317T184354Z
LAST-MODIFIED:20260317T184356Z
UID:1276-1775145600-1775152800@coshoctoncountyfair.org
SUMMARY:Child Abuse Awareness Family Fun Day
DESCRIPTION:
URL:https://coshoctoncountyfair.org/event/child-abuse-awareness-family-fun-day/
END:VEVENT
BEGIN:VEVENT
DTSTART;TZID=America/New_York:20260404T000000
DTEND;TZID=America/New_York:20260404T235959
DTSTAMP:20260423T071105
CREATED:20260319T115427Z
LAST-MODIFIED:20260319T115430Z
UID:1341-1775260800-1775347199@coshoctoncountyfair.org
SUMMARY:The River Church Easter Egg Hunt
DESCRIPTION:
URL:https://coshoctoncountyfair.org/event/the-river-church-easter-egg-hunt/
END:VEVENT
BEGIN:VEVENT
DTSTART;TZID=America/New_York:20260406T160000
DTEND;TZID=America/New_York:20260406T180000
DTSTAMP:20260423T071105
CREATED:20260317T184610Z
LAST-MODIFIED:20260317T184628Z
UID:1278-1775491200-1775498400@coshoctoncountyfair.org
SUMMARY:Child Abuse Awareness Family Fun Day 4-6pm Rain Date
DESCRIPTION:
URL:https://coshoctoncountyfair.org/event/child-abuseawareness-familyfun-day-4-6pm-raindate/
END:VEVENT
BEGIN:VEVENT
DTSTART;TZID=America/New_York:20260412T140000
DTEND;TZID=America/New_York:20260412T160000
DTSTAMP:20260423T071105
CREATED:20260317T192245Z
LAST-MODIFIED:20260317T192247Z
UID:1339-1776002400-1776009600@coshoctoncountyfair.org
SUMMARY:4H Fun Fest
DESCRIPTION:
URL:https://coshoctoncountyfair.org/event/4h-fun-fest/
END:VEVENT
BEGIN:VEVENT
DTSTART;TZID=America/New_York:20260425T000000
DTEND;TZID=America/New_York:20260425T235959
DTSTAMP:20260423T071105
CREATED:20260317T185044Z
LAST-MODIFIED:20260317T185046Z
UID:1283-1777075200-1777161599@coshoctoncountyfair.org
SUMMARY:Llama Show
DESCRIPTION:
URL:https://coshoctoncountyfair.org/event/llama-show-2/
END:VEVENT
BEGIN:VEVENT
DTSTART;TZID=America/New_York:20260426T000000
DTEND;TZID=America/New_York:20260426T235959
DTSTAMP:20260423T071105
CREATED:20260317T184730Z
LAST-MODIFIED:20260317T185017Z
UID:1281-1777161600-1777247999@coshoctoncountyfair.org
SUMMARY:Llama Show
DESCRIPTION:
URL:https://coshoctoncountyfair.org/event/llama-show/
END:VEVENT
BEGIN:VEVENT
DTSTART;TZID=America/New_York:20260503T190000
DTEND;TZID=America/New_York:20260503T203000
DTSTAMP:20260423T071105
CREATED:20260317T185528Z
LAST-MODIFIED:20260317T185530Z
UID:1285-1777834800-1777840200@coshoctoncountyfair.org
SUMMARY:Quality Assurance Jr Fair\, Beef\, Hunter Arena 7 -8:30 pm
DESCRIPTION:
URL:https://coshoctoncountyfair.org/event/quality-assurance-jr-fair-beef-hunter-arena-7-830-pm/
END:VEVENT
BEGIN:VEVENT
DTSTART;TZID=America/New_York:20260506T000000
DTEND;TZID=America/New_York:20260506T235959
DTSTAMP:20260423T071105
CREATED:20260317T185637Z
LAST-MODIFIED:20260317T185639Z
UID:1287-1778025600-1778111999@coshoctoncountyfair.org
SUMMARY:Fair Food Fix
DESCRIPTION:
URL:https://coshoctoncountyfair.org/event/fair-food-fix/
END:VEVENT
BEGIN:VEVENT
DTSTART;TZID=America/New_York:20260507T000000
DTEND;TZID=America/New_York:20260507T235959
DTSTAMP:20260423T071105
CREATED:20260317T185706Z
LAST-MODIFIED:20260317T185708Z
UID:1289-1778112000-1778198399@coshoctoncountyfair.org
SUMMARY:Fair Food Fix
DESCRIPTION:
URL:https://coshoctoncountyfair.org/event/fair-food-fix-2/
END:VEVENT
BEGIN:VEVENT
DTSTART;TZID=America/New_York:20260508T000000
DTEND;TZID=America/New_York:20260508T235959
DTSTAMP:20260423T071105
CREATED:20260317T185735Z
LAST-MODIFIED:20260317T185737Z
UID:1291-1778198400-1778284799@coshoctoncountyfair.org
SUMMARY:Fair Food Fix
DESCRIPTION:
URL:https://coshoctoncountyfair.org/event/fair-food-fix-3/
END:VEVENT
BEGIN:VEVENT
DTSTART;TZID=America/New_York:20260509T000000
DTEND;TZID=America/New_York:20260509T235959
DTSTAMP:20260423T071105
CREATED:20260317T185805Z
LAST-MODIFIED:20260317T185807Z
UID:1293-1778284800-1778371199@coshoctoncountyfair.org
SUMMARY:Fair Food Fix
DESCRIPTION:
URL:https://coshoctoncountyfair.org/event/fair-food-fix-4/
END:VEVENT
BEGIN:VEVENT
DTSTART;TZID=America/New_York:20260509T000000
DTEND;TZID=America/New_York:20260509T235959
DTSTAMP:20260423T071105
CREATED:20260317T185830Z
LAST-MODIFIED:20260317T185832Z
UID:1295-1778284800-1778371199@coshoctoncountyfair.org
SUMMARY:Monster Truck Bash
DESCRIPTION:
URL:https://coshoctoncountyfair.org/event/monster-truck-bash-2/
END:VEVENT
BEGIN:VEVENT
DTSTART;TZID=America/New_York:20260517T000000
DTEND;TZID=America/New_York:20260517T235959
DTSTAMP:20260423T071105
CREATED:20260317T185853Z
LAST-MODIFIED:20260317T185927Z
UID:1297-1778976000-1779062399@coshoctoncountyfair.org
SUMMARY:Good Sam
DESCRIPTION:
URL:https://coshoctoncountyfair.org/event/good-sam/
END:VEVENT
BEGIN:VEVENT
DTSTART;TZID=America/New_York:20260530T000000
DTEND;TZID=America/New_York:20260530T235959
DTSTAMP:20260423T071105
CREATED:20251118T154713Z
LAST-MODIFIED:20251118T162253Z
UID:1254-1780099200-1780185599@coshoctoncountyfair.org
SUMMARY:Quality Assurance JR Fair Beef
DESCRIPTION:8- 9:30 AM and 2-2:30 PM
URL:https://coshoctoncountyfair.org/event/ffa-4h-tac-swap/
END:VEVENT
BEGIN:VEVENT
DTSTART;TZID=America/New_York:20260531T130000
DTEND;TZID=America/New_York:20260531T130000
DTSTAMP:20260423T071105
CREATED:20260317T190240Z
LAST-MODIFIED:20260317T190243Z
UID:1301-1780232400-1780232400@coshoctoncountyfair.org
SUMMARY:Dog Clinic @ 1 pm Jr Fair Barn
DESCRIPTION:
URL:https://coshoctoncountyfair.org/event/dog-clinic-1-pm-jr-fair-barn/
END:VEVENT
BEGIN:VEVENT
DTSTART;TZID=America/New_York:20260604T000000
DTEND;TZID=America/New_York:20260604T235959
DTSTAMP:20260423T071105
CREATED:20260317T190340Z
LAST-MODIFIED:20260317T190342Z
UID:1303-1780531200-1780617599@coshoctoncountyfair.org
SUMMARY:Balloon Fest
DESCRIPTION:
URL:https://coshoctoncountyfair.org/event/balloon-fest/
END:VEVENT
BEGIN:VEVENT
DTSTART;TZID=America/New_York:20260604T000000
DTEND;TZID=America/New_York:20260606T235959
DTSTAMP:20260423T071105
CREATED:20260317T190503Z
LAST-MODIFIED:20260317T190505Z
UID:1305-1780531200-1780790399@coshoctoncountyfair.org
SUMMARY:Good Sam
DESCRIPTION:
URL:https://coshoctoncountyfair.org/event/good-sam-2/
END:VEVENT
BEGIN:VEVENT
DTSTART;TZID=America/New_York:20260607T130000
DTEND;TZID=America/New_York:20260607T130000
DTSTAMP:20260423T071105
CREATED:20260317T190546Z
LAST-MODIFIED:20260317T190548Z
UID:1307-1780837200-1780837200@coshoctoncountyfair.org
SUMMARY:Dog Clinic @ 1 pm Jr Fair Barn
DESCRIPTION:
URL:https://coshoctoncountyfair.org/event/dog-clinic-1-pm-jr-fair-barn-2/
END:VEVENT
BEGIN:VEVENT
DTSTART;TZID=America/New_York:20260610T080000
DTEND;TZID=America/New_York:20260618T170000
DTSTAMP:20260423T071105
CREATED:20260317T190732Z
LAST-MODIFIED:20260317T190734Z
UID:1309-1781078400-1781802000@coshoctoncountyfair.org
SUMMARY:Safety Town Weekdays only 10am-12pm & 6pm-8pm
DESCRIPTION:
URL:https://coshoctoncountyfair.org/event/safety-town-weekdays-only-10am-12pm-6pm-8pm/
END:VEVENT
END:VCALENDAR