BEGIN:VCALENDAR
VERSION:2.0
PRODID:-//Welcome - ECPv6.15.20//NONSGML v1.0//EN
CALSCALE:GREGORIAN
METHOD:PUBLISH
X-ORIGINAL-URL:https://coshoctoncountyfair.org
X-WR-CALDESC:Events for Welcome
REFRESH-INTERVAL;VALUE=DURATION:PT1H
X-Robots-Tag:noindex
X-PUBLISHED-TTL:PT1H
BEGIN:VTIMEZONE
TZID:America/New_York
BEGIN:DAYLIGHT
TZOFFSETFROM:-0500
TZOFFSETTO:-0400
TZNAME:EDT
DTSTART:20250309T070000
END:DAYLIGHT
BEGIN:STANDARD
TZOFFSETFROM:-0400
TZOFFSETTO:-0500
TZNAME:EST
DTSTART:20251102T060000
END:STANDARD
BEGIN:DAYLIGHT
TZOFFSETFROM:-0500
TZOFFSETTO:-0400
TZNAME:EDT
DTSTART:20260308T070000
END:DAYLIGHT
BEGIN:STANDARD
TZOFFSETFROM:-0400
TZOFFSETTO:-0500
TZNAME:EST
DTSTART:20261101T060000
END:STANDARD
BEGIN:DAYLIGHT
TZOFFSETFROM:-0500
TZOFFSETTO:-0400
TZNAME:EDT
DTSTART:20270314T070000
END:DAYLIGHT
BEGIN:STANDARD
TZOFFSETFROM:-0400
TZOFFSETTO:-0500
TZNAME:EST
DTSTART:20271107T060000
END:STANDARD
END:VTIMEZONE
BEGIN:VEVENT
DTSTART;TZID=America/New_York:20260620T060000
DTEND;TZID=America/New_York:20260620T080000
DTSTAMP:20260422T164216
CREATED:20260317T190912Z
LAST-MODIFIED:20260317T190914Z
UID:1311-1781935200-1781942400@coshoctoncountyfair.org
SUMMARY:Hog Tag-in 6-8 AM
DESCRIPTION:
URL:https://coshoctoncountyfair.org/event/hog-tag-in-6-8-am/
END:VEVENT
BEGIN:VEVENT
DTSTART;TZID=America/New_York:20260620T080000
DTEND;TZID=America/New_York:20260620T090000
DTSTAMP:20260422T164216
CREATED:20260317T191023Z
LAST-MODIFIED:20260317T191026Z
UID:1313-1781942400-1781946000@coshoctoncountyfair.org
SUMMARY:Feeder Calf Weigh in 8-9AM
DESCRIPTION:
URL:https://coshoctoncountyfair.org/event/feeder-calf-weigh-in-8-9am/
END:VEVENT
BEGIN:VEVENT
DTSTART;TZID=America/New_York:20260620T090000
DTEND;TZID=America/New_York:20260620T100000
DTSTAMP:20260422T164216
CREATED:20260317T191118Z
LAST-MODIFIED:20260317T191120Z
UID:1315-1781946000-1781949600@coshoctoncountyfair.org
SUMMARY:Lamb/Goat Tag in 9-10am
DESCRIPTION:
URL:https://coshoctoncountyfair.org/event/lamb-goat-tag-in-9-10am/
END:VEVENT
END:VCALENDAR