BEGIN:VCALENDAR
VERSION:2.0
PRODID:-//Welcome - ECPv6.15.20//NONSGML v1.0//EN
CALSCALE:GREGORIAN
METHOD:PUBLISH
X-WR-CALNAME:Welcome
X-ORIGINAL-URL:https://coshoctoncountyfair.org
X-WR-CALDESC:Events for Welcome
REFRESH-INTERVAL;VALUE=DURATION:PT1H
X-Robots-Tag:noindex
X-PUBLISHED-TTL:PT1H
BEGIN:VTIMEZONE
TZID:America/New_York
BEGIN:DAYLIGHT
TZOFFSETFROM:-0500
TZOFFSETTO:-0400
TZNAME:EDT
DTSTART:20240310T070000
END:DAYLIGHT
BEGIN:STANDARD
TZOFFSETFROM:-0400
TZOFFSETTO:-0500
TZNAME:EST
DTSTART:20241103T060000
END:STANDARD
BEGIN:DAYLIGHT
TZOFFSETFROM:-0500
TZOFFSETTO:-0400
TZNAME:EDT
DTSTART:20250309T070000
END:DAYLIGHT
BEGIN:STANDARD
TZOFFSETFROM:-0400
TZOFFSETTO:-0500
TZNAME:EST
DTSTART:20251102T060000
END:STANDARD
BEGIN:DAYLIGHT
TZOFFSETFROM:-0500
TZOFFSETTO:-0400
TZNAME:EDT
DTSTART:20260308T070000
END:DAYLIGHT
BEGIN:STANDARD
TZOFFSETFROM:-0400
TZOFFSETTO:-0500
TZNAME:EST
DTSTART:20261101T060000
END:STANDARD
END:VTIMEZONE
BEGIN:VEVENT
DTSTART;TZID=America/New_York:20250724T000000
DTEND;TZID=America/New_York:20250727T235959
DTSTAMP:20260423T041937
CREATED:20250317T151534Z
LAST-MODIFIED:20250430T130835Z
UID:870-1753315200-1753660799@coshoctoncountyfair.org
SUMMARY:Rock Coshocton
DESCRIPTION:Rock Coshocton brings live music\, local talent\, and electric energy to the heart of Coshocton! Get ready for an unforgettable celebration of sound\, community\, and great vibes. https://www.rockcoshoctonmusic.com/ Get tickets HERE!
URL:https://coshoctoncountyfair.org/event/870/
ATTACH;FMTTYPE=image/avif:https://coshoctoncountyfair.org/wp-content/uploads/2025/03/Rock.avif
END:VEVENT
END:VCALENDAR